Package: TDbasedUFEadv Version: 1.10.0 Command: rm -rf TDbasedUFEadv.buildbin-libdir && mkdir TDbasedUFEadv.buildbin-libdir && /Users/biocbuild/BBS/utils/build-universal.sh TDbasedUFEadv_1.10.0.tar.gz /Library/Frameworks/R.framework/Resources/bin/R TDbasedUFEadv.buildbin-libdir StartedAt: 2025-10-31 01:52:13 -0400 (Fri, 31 Oct 2025) EndedAt: 2025-10-31 01:52:57 -0400 (Fri, 31 Oct 2025) EllapsedTime: 43.4 seconds RetCode: 0 Status: OK PackageFile: TDbasedUFEadv_1.10.0.tgz PackageFileSize: 3.511 MiB