Package: TDbasedUFEadv Version: 1.8.1 Command: /home/biocbuild/R/R/bin/R CMD build --keep-empty-dirs --no-resave-data TDbasedUFEadv StartedAt: 2025-10-03 05:14:16 -0000 (Fri, 03 Oct 2025) EndedAt: 2025-10-03 05:20:55 -0000 (Fri, 03 Oct 2025) EllapsedTime: 399.1 seconds RetCode: 0 Status: OK PackageFile: TDbasedUFEadv_1.8.1.tar.gz PackageFileSize: 3.63 MiB