Package: TDbasedUFEadv Version: 1.8.0 Command: /Library/Frameworks/R.framework/Resources/bin/R CMD build --keep-empty-dirs --no-resave-data TDbasedUFEadv StartedAt: 2025-04-21 17:51:11 -0400 (Mon, 21 Apr 2025) EndedAt: 2025-04-21 17:53:00 -0400 (Mon, 21 Apr 2025) EllapsedTime: 108.3 seconds RetCode: 0 Status: OK PackageFile: TDbasedUFEadv_1.8.0.tar.gz PackageFileSize: 4.02 MiB