Package: TDbasedUFEadv Version: 1.8.1 Command: /Library/Frameworks/R.framework/Resources/bin/R CMD build --keep-empty-dirs --no-resave-data TDbasedUFEadv StartedAt: 2025-10-14 10:54:20 -0400 (Tue, 14 Oct 2025) EndedAt: 2025-10-14 10:58:10 -0400 (Tue, 14 Oct 2025) EllapsedTime: 229.7 seconds RetCode: 0 Status: OK PackageFile: TDbasedUFEadv_1.8.1.tar.gz PackageFileSize: 4.021 MiB