Package: TDbasedUFE Version: 1.10.0 Command: /home/biocbuild/R/R/bin/R CMD INSTALL TDbasedUFE StartedAt: 2025-11-20 22:04:39 -0000 (Thu, 20 Nov 2025) EndedAt: 2025-11-20 22:04:52 -0000 (Thu, 20 Nov 2025) EllapsedTime: 13.1 seconds RetCode: 0 Status: OK