Package: TDbasedUFE Version: 1.10.0 Command: /home/biocbuild/R/R/bin/R CMD build --keep-empty-dirs --no-resave-data TDbasedUFE StartedAt: 2025-11-21 06:26:51 -0000 (Fri, 21 Nov 2025) EndedAt: 2025-11-21 06:27:28 -0000 (Fri, 21 Nov 2025) EllapsedTime: 37.0 seconds RetCode: 0 Status: OK PackageFile: TDbasedUFE_1.10.0.tar.gz PackageFileSize: 1.039 MiB