Package: TDbasedUFE Version: 1.10.0 Command: /home/biocbuild/bbs-3.22-bioc/R/bin/R CMD INSTALL TDbasedUFE StartedAt: 2025-11-11 15:20:36 -0500 (Tue, 11 Nov 2025) EndedAt: 2025-11-11 15:20:45 -0500 (Tue, 11 Nov 2025) EllapsedTime: 9.6 seconds RetCode: 0 Status: OK