Package: TDbasedUFE Version: 1.10.0 Command: /home/biocbuild/bbs-3.22-bioc/R/bin/R CMD check --install=check:TDbasedUFE.install-out.txt --library=/home/biocbuild/bbs-3.22-bioc/R/site-library --timings TDbasedUFE_1.10.0.tar.gz StartedAt: 2025-11-12 04:54:06 -0500 (Wed, 12 Nov 2025) EndedAt: 2025-11-12 04:56:04 -0500 (Wed, 12 Nov 2025) EllapsedTime: 118.1 seconds RetCode: 0 Status: OK CheckDir: TDbasedUFE.Rcheck Warnings: 0