Package: TDbasedUFE Version: 1.8.0 Command: /home/biocbuild/bbs-3.21-bioc/R/bin/R CMD build --keep-empty-dirs --no-resave-data TDbasedUFE StartedAt: 2025-10-15 20:16:15 -0400 (Wed, 15 Oct 2025) EndedAt: 2025-10-15 20:16:44 -0400 (Wed, 15 Oct 2025) EllapsedTime: 29.0 seconds RetCode: 0 Status: OK PackageFile: TDbasedUFE_1.8.0.tar.gz PackageFileSize: 1.286 MiB