Package: TDbasedUFE Version: 1.8.0 Command: /home/biocbuild/R/R/bin/R CMD INSTALL TDbasedUFE StartedAt: 2025-09-25 20:29:08 -0000 (Thu, 25 Sep 2025) EndedAt: 2025-09-25 20:29:24 -0000 (Thu, 25 Sep 2025) EllapsedTime: 16.0 seconds RetCode: 0 Status: OK