Package: TCseq Version: 1.34.0 Command: /home/biocbuild/R/R/bin/R CMD build --keep-empty-dirs --no-resave-data TCseq StartedAt: 2025-11-14 05:55:36 -0000 (Fri, 14 Nov 2025) EndedAt: 2025-11-14 05:56:35 -0000 (Fri, 14 Nov 2025) EllapsedTime: 59.1 seconds RetCode: 0 Status: OK PackageFile: TCseq_1.34.0.tar.gz PackageFileSize: 1.109 MiB