Package: TCseq Version: 1.34.0 Command: /home/biocbuild/bbs-3.22-bioc/R/bin/R CMD check --install=check:TCseq.install-out.txt --library=/home/biocbuild/bbs-3.22-bioc/R/site-library --timings TCseq_1.34.0.tar.gz StartedAt: 2025-11-12 04:54:01 -0500 (Wed, 12 Nov 2025) EndedAt: 2025-11-12 04:57:55 -0500 (Wed, 12 Nov 2025) EllapsedTime: 234.2 seconds RetCode: 0 Status: WARNINGS CheckDir: TCseq.Rcheck Warnings: 2