Package: TCseq Version: 1.32.0 Command: /Library/Frameworks/R.framework/Resources/bin/R CMD INSTALL TCseq StartedAt: 2025-10-13 16:01:42 -0400 (Mon, 13 Oct 2025) EndedAt: 2025-10-13 16:02:49 -0400 (Mon, 13 Oct 2025) EllapsedTime: 66.8 seconds RetCode: 0 Status: OK