Package: TCseq Version: 1.32.0 Command: /Library/Frameworks/R.framework/Resources/bin/R CMD build --keep-empty-dirs --no-resave-data TCseq StartedAt: 2025-09-26 10:37:56 -0400 (Fri, 26 Sep 2025) EndedAt: 2025-09-26 10:38:57 -0400 (Fri, 26 Sep 2025) EllapsedTime: 61.0 seconds RetCode: 0 Status: OK PackageFile: TCseq_1.32.0.tar.gz PackageFileSize: 1.114 MiB