Package: TCGAutils Version: 1.30.0 Command: /home/biocbuild/R/R/bin/R CMD INSTALL TCGAutils StartedAt: 2025-11-10 21:51:12 -0000 (Mon, 10 Nov 2025) EndedAt: 2025-11-10 21:52:02 -0000 (Mon, 10 Nov 2025) EllapsedTime: 49.9 seconds RetCode: 0 Status: OK