Package: TCGAutils Version: 1.30.0 Command: /home/biocbuild/R/R/bin/R CMD build --keep-empty-dirs --no-resave-data TCGAutils StartedAt: 2025-11-11 05:47:30 -0000 (Tue, 11 Nov 2025) EndedAt: 2025-11-11 05:49:38 -0000 (Tue, 11 Nov 2025) EllapsedTime: 128.1 seconds RetCode: 1 Status: ERROR PackageFile: None PackageFileSize: NA