Package: TCGAutils Version: 1.28.0 Command: rm -rf TCGAutils.buildbin-libdir && mkdir TCGAutils.buildbin-libdir && E:\biocbuild\bbs-3.21-bioc\R\bin\R.exe CMD INSTALL --build --library=TCGAutils.buildbin-libdir TCGAutils_1.28.0.tar.gz StartedAt: 2025-08-15 10:27:31 -0400 (Fri, 15 Aug 2025) EndedAt: 2025-08-15 10:28:34 -0400 (Fri, 15 Aug 2025) EllapsedTime: 62.9 seconds RetCode: 0 Status: OK PackageFile: TCGAutils_1.28.0.zip PackageFileSize: 459 KiB