Package: TCGAutils Version: 1.30.0 Command: /home/biocbuild/bbs-3.22-bioc/R/bin/R CMD INSTALL TCGAutils StartedAt: 2025-11-11 15:47:44 -0500 (Tue, 11 Nov 2025) EndedAt: 2025-11-11 15:48:22 -0500 (Tue, 11 Nov 2025) EllapsedTime: 38.0 seconds RetCode: 0 Status: OK