Package: TCGAutils Version: 1.30.0 Command: /home/biocbuild/bbs-3.22-bioc/R/bin/R CMD check --install=check:TCGAutils.install-out.txt --library=/home/biocbuild/bbs-3.22-bioc/R/site-library --timings TCGAutils_1.30.0.tar.gz StartedAt: 2025-11-12 04:54:00 -0500 (Wed, 12 Nov 2025) EndedAt: 2025-11-12 05:01:32 -0500 (Wed, 12 Nov 2025) EllapsedTime: 452.4 seconds RetCode: 1 Status: ERROR CheckDir: TCGAutils.Rcheck Warnings: NA