Package: TCGAutils Version: 1.30.0 Command: /home/biocbuild/bbs-3.22-bioc/R/bin/R CMD build --keep-empty-dirs --no-resave-data --md5 TCGAutils StartedAt: 2025-11-11 20:37:15 -0500 (Tue, 11 Nov 2025) EndedAt: 2025-11-11 20:39:57 -0500 (Tue, 11 Nov 2025) EllapsedTime: 162.4 seconds RetCode: 0 Status: OK PackageFile: TCGAutils_1.30.0.tar.gz PackageFileSize: 406.8 KiB