Package: TCGAutils Version: 1.28.0 Command: /Library/Frameworks/R.framework/Resources/bin/R CMD INSTALL TCGAutils StartedAt: 2025-09-25 17:25:29 -0400 (Thu, 25 Sep 2025) EndedAt: 2025-09-25 17:26:13 -0400 (Thu, 25 Sep 2025) EllapsedTime: 44.6 seconds RetCode: 0 Status: OK