Package: TCGAbiolinks Version: 2.38.0 Command: /home/biocbuild/R/R/bin/R CMD INSTALL TCGAbiolinks StartedAt: 2025-11-13 21:34:07 -0000 (Thu, 13 Nov 2025) EndedAt: 2025-11-13 21:35:03 -0000 (Thu, 13 Nov 2025) EllapsedTime: 56.0 seconds RetCode: 0 Status: OK