Package: TCGAbiolinks Version: 2.38.0 Command: /home/biocbuild/R/R/bin/R CMD build --keep-empty-dirs --no-resave-data TCGAbiolinks StartedAt: 2025-11-11 05:47:17 -0000 (Tue, 11 Nov 2025) EndedAt: 2025-11-11 05:59:08 -0000 (Tue, 11 Nov 2025) EllapsedTime: 711.4 seconds RetCode: 0 Status: OK PackageFile: TCGAbiolinks_2.38.0.tar.gz PackageFileSize: 53.7 MiB