Package: TCGAbiolinks Version: 2.38.0 Command: /home/biocbuild/bbs-3.22-bioc/R/bin/R CMD INSTALL TCGAbiolinks StartedAt: 2025-11-11 15:30:26 -0500 (Tue, 11 Nov 2025) EndedAt: 2025-11-11 15:31:08 -0500 (Tue, 11 Nov 2025) EllapsedTime: 42.1 seconds RetCode: 0 Status: OK