Package: TCGAbiolinks Version: 2.36.0 Command: /home/biocbuild/bbs-3.21-bioc/R/bin/R CMD INSTALL TCGAbiolinks StartedAt: 2025-10-08 15:25:54 -0400 (Wed, 08 Oct 2025) EndedAt: 2025-10-08 15:26:36 -0400 (Wed, 08 Oct 2025) EllapsedTime: 42.5 seconds RetCode: 0 Status: OK