Package: TCGAbiolinks Version: 2.36.0 Command: /home/biocbuild/bbs-3.21-bioc/R/bin/R CMD build --keep-empty-dirs --no-resave-data TCGAbiolinks StartedAt: 2025-10-08 20:14:36 -0400 (Wed, 08 Oct 2025) EndedAt: 2025-10-08 20:20:07 -0400 (Wed, 08 Oct 2025) EllapsedTime: 330.6 seconds RetCode: 0 Status: OK PackageFile: TCGAbiolinks_2.36.0.tar.gz PackageFileSize: 63.76 MiB