Package: TCGAbiolinks Version: 2.36.0 Command: /Library/Frameworks/R.framework/Resources/bin/R CMD INSTALL TCGAbiolinks StartedAt: 2025-10-06 16:06:22 -0400 (Mon, 06 Oct 2025) EndedAt: 2025-10-06 16:07:16 -0400 (Mon, 06 Oct 2025) EllapsedTime: 54.2 seconds RetCode: 0 Status: OK