Package: TCGAbiolinks Version: 2.36.0 Command: rm -rf TCGAbiolinks.buildbin-libdir && mkdir TCGAbiolinks.buildbin-libdir && /Users/biocbuild/BBS/utils/build-universal.sh TCGAbiolinks_2.36.0.tar.gz /Library/Frameworks/R.framework/Resources/bin/R TCGAbiolinks.buildbin-libdir StartedAt: 2025-10-08 23:22:53 -0400 (Wed, 08 Oct 2025) EndedAt: 2025-10-08 23:24:14 -0400 (Wed, 08 Oct 2025) EllapsedTime: 80.9 seconds RetCode: 0 Status: OK PackageFile: TCGAbiolinks_2.36.0.tgz PackageFileSize: 67.99 MiB