Package: TCC Version: 1.50.0 Command: /home/biocbuild/bbs-3.22-bioc/R/bin/R CMD INSTALL TCC StartedAt: 2025-11-11 15:25:53 -0500 (Tue, 11 Nov 2025) EndedAt: 2025-11-11 15:26:23 -0500 (Tue, 11 Nov 2025) EllapsedTime: 30.3 seconds RetCode: 0 Status: OK