Package: TCC Version: 1.50.0 Command: /home/biocbuild/bbs-3.22-bioc/R/bin/R CMD check --install=check:TCC.install-out.txt --library=/home/biocbuild/bbs-3.22-bioc/R/site-library --timings TCC_1.50.0.tar.gz StartedAt: 2025-11-14 04:54:47 -0500 (Fri, 14 Nov 2025) EndedAt: 2025-11-14 05:00:11 -0500 (Fri, 14 Nov 2025) EllapsedTime: 324.3 seconds RetCode: 0 Status: OK CheckDir: TCC.Rcheck Warnings: 0