Package: TCC Version: 1.50.0 Command: /home/biocbuild/bbs-3.22-bioc/R/bin/R CMD build --keep-empty-dirs --no-resave-data --md5 TCC StartedAt: 2025-11-11 20:37:12 -0500 (Tue, 11 Nov 2025) EndedAt: 2025-11-11 20:38:49 -0500 (Tue, 11 Nov 2025) EllapsedTime: 97.3 seconds RetCode: 0 Status: OK PackageFile: TCC_1.50.0.tar.gz PackageFileSize: 3.186 MiB