Package: TCC Version: 1.50.0 Command: /Library/Frameworks/R.framework/Resources/bin/R CMD INSTALL TCC StartedAt: 2025-11-03 15:26:05 -0500 (Mon, 03 Nov 2025) EndedAt: 2025-11-03 15:26:46 -0500 (Mon, 03 Nov 2025) EllapsedTime: 41.6 seconds RetCode: 0 Status: OK