Package: TCC Version: 1.50.0 Command: /Library/Frameworks/R.framework/Resources/bin/R CMD build --keep-empty-dirs --no-resave-data TCC StartedAt: 2025-11-02 19:05:34 -0500 (Sun, 02 Nov 2025) EndedAt: 2025-11-02 19:07:28 -0500 (Sun, 02 Nov 2025) EllapsedTime: 114.0 seconds RetCode: 0 Status: OK PackageFile: TCC_1.50.0.tar.gz PackageFileSize: 2.598 MiB