Package: TCC Version: 1.48.0 Command: /home/biocbuild/R/R/bin/R CMD INSTALL TCC StartedAt: 2025-10-06 20:32:25 -0000 (Mon, 06 Oct 2025) EndedAt: 2025-10-06 20:33:07 -0000 (Mon, 06 Oct 2025) EllapsedTime: 42.5 seconds RetCode: 0 Status: OK