Package: TBSignatureProfiler Version: 1.22.0 Command: /home/biocbuild/bbs-3.22-bioc/R/bin/R CMD INSTALL TBSignatureProfiler StartedAt: 2025-11-11 16:01:31 -0500 (Tue, 11 Nov 2025) EndedAt: 2025-11-11 16:01:35 -0500 (Tue, 11 Nov 2025) EllapsedTime: 4.1 seconds RetCode: 0 Status: OK