Package: TBSignatureProfiler Version: 1.22.0 Command: /home/biocbuild/bbs-3.22-bioc/R/bin/R CMD check --install=check:TBSignatureProfiler.install-out.txt --library=/home/biocbuild/bbs-3.22-bioc/R/site-library --timings TBSignatureProfiler_1.22.0.tar.gz StartedAt: 2025-11-15 05:06:28 -0500 (Sat, 15 Nov 2025) EndedAt: 2025-11-15 05:09:04 -0500 (Sat, 15 Nov 2025) EllapsedTime: 156.2 seconds RetCode: 0 Status: OK CheckDir: TBSignatureProfiler.Rcheck Warnings: 0