Package: TBSignatureProfiler Version: 1.22.0 Command: /Library/Frameworks/R.framework/Resources/bin/R CMD INSTALL TBSignatureProfiler StartedAt: 2025-11-03 15:54:22 -0500 (Mon, 03 Nov 2025) EndedAt: 2025-11-03 15:54:28 -0500 (Mon, 03 Nov 2025) EllapsedTime: 5.9 seconds RetCode: 0 Status: OK