Package: TBSignatureProfiler Version: 1.22.0 Command: rm -rf TBSignatureProfiler.buildbin-libdir && mkdir TBSignatureProfiler.buildbin-libdir && /Users/biocbuild/BBS/utils/build-universal.sh TBSignatureProfiler_1.22.0.tar.gz /Library/Frameworks/R.framework/Resources/bin/R TBSignatureProfiler.buildbin-libdir StartedAt: 2025-11-04 02:08:11 -0500 (Tue, 04 Nov 2025) EndedAt: 2025-11-04 02:08:19 -0500 (Tue, 04 Nov 2025) EllapsedTime: 8.1 seconds RetCode: 0 Status: OK PackageFile: TBSignatureProfiler_1.22.0.tgz PackageFileSize: 3.346 MiB