Package: TBSignatureProfiler Version: 1.20.0 Command: /home/biocbuild/R/R/bin/R CMD INSTALL TBSignatureProfiler StartedAt: 2025-10-13 21:16:08 -0000 (Mon, 13 Oct 2025) EndedAt: 2025-10-13 21:16:13 -0000 (Mon, 13 Oct 2025) EllapsedTime: 5.0 seconds RetCode: 0 Status: OK