Package: TAPseq Version: 1.22.0 Command: /home/biocbuild/R/R/bin/R CMD INSTALL TAPseq StartedAt: 2025-11-13 21:46:59 -0000 (Thu, 13 Nov 2025) EndedAt: 2025-11-13 21:47:50 -0000 (Thu, 13 Nov 2025) EllapsedTime: 51.4 seconds RetCode: 0 Status: OK