Package: TAPseq Version: 1.22.0 Command: /home/biocbuild/R/R/bin/R CMD build --keep-empty-dirs --no-resave-data TAPseq StartedAt: 2025-11-14 05:54:37 -0000 (Fri, 14 Nov 2025) EndedAt: 2025-11-14 06:00:35 -0000 (Fri, 14 Nov 2025) EllapsedTime: 358.3 seconds RetCode: 0 Status: OK PackageFile: TAPseq_1.22.0.tar.gz PackageFileSize: 2.513 MiB