Package: TAPseq Version: 1.22.0 Command: /home/biocbuild/bbs-3.22-bioc/R/bin/R CMD INSTALL TAPseq StartedAt: 2025-11-11 15:43:29 -0500 (Tue, 11 Nov 2025) EndedAt: 2025-11-11 15:44:09 -0500 (Tue, 11 Nov 2025) EllapsedTime: 39.6 seconds RetCode: 0 Status: OK