Package: TAPseq Version: 1.22.0 Command: /home/biocbuild/bbs-3.22-bioc/R/bin/R CMD check --install=check:TAPseq.install-out.txt --library=/home/biocbuild/bbs-3.22-bioc/R/site-library --timings TAPseq_1.22.0.tar.gz StartedAt: 2025-11-12 04:52:44 -0500 (Wed, 12 Nov 2025) EndedAt: 2025-11-12 05:08:59 -0500 (Wed, 12 Nov 2025) EllapsedTime: 975.0 seconds RetCode: 0 Status: WARNINGS CheckDir: TAPseq.Rcheck Warnings: 1