Package: TAPseq Version: 1.20.0 Command: /home/biocbuild/bbs-3.21-bioc/R/bin/R CMD build --keep-empty-dirs --no-resave-data TAPseq StartedAt: 2025-10-08 20:13:47 -0400 (Wed, 08 Oct 2025) EndedAt: 2025-10-08 20:18:17 -0400 (Wed, 08 Oct 2025) EllapsedTime: 269.6 seconds RetCode: 0 Status: OK PackageFile: TAPseq_1.20.0.tar.gz PackageFileSize: 2.563 MiB