Package: TAPseq Version: 1.20.0 Command: rm -rf TAPseq.buildbin-libdir && mkdir TAPseq.buildbin-libdir && /Users/biocbuild/BBS/utils/build-universal.sh TAPseq_1.20.0.tar.gz /Library/Frameworks/R.framework/Resources/bin/R TAPseq.buildbin-libdir StartedAt: 2025-04-22 01:12:45 -0400 (Tue, 22 Apr 2025) EndedAt: 2025-04-22 01:13:42 -0400 (Tue, 22 Apr 2025) EllapsedTime: 56.9 seconds RetCode: 0 Status: OK PackageFile: TAPseq_1.20.0.tgz PackageFileSize: 2.959 MiB