Package: TAPseq Version: 1.20.0 Command: /Library/Frameworks/R.framework/Resources/bin/R CMD INSTALL TAPseq StartedAt: 2025-10-09 17:16:01 -0400 (Thu, 09 Oct 2025) EndedAt: 2025-10-09 17:16:51 -0400 (Thu, 09 Oct 2025) EllapsedTime: 49.4 seconds RetCode: 0 Status: OK