Package: TAPseq Version: 1.20.0 Command: /Library/Frameworks/R.framework/Resources/bin/R CMD build --keep-empty-dirs --no-resave-data TAPseq StartedAt: 2025-10-10 11:16:01 -0400 (Fri, 10 Oct 2025) EndedAt: 2025-10-10 11:21:24 -0400 (Fri, 10 Oct 2025) EllapsedTime: 322.8 seconds RetCode: 0 Status: OK PackageFile: TAPseq_1.20.0.tar.gz PackageFileSize: 2.527 MiB