Package: TADCompare Version: 1.20.0 Command: /home/biocbuild/bbs-3.22-bioc/R/bin/R CMD INSTALL TADCompare StartedAt: 2025-11-11 15:38:58 -0500 (Tue, 11 Nov 2025) EndedAt: 2025-11-11 15:39:27 -0500 (Tue, 11 Nov 2025) EllapsedTime: 29.9 seconds RetCode: 0 Status: OK