Package: TADCompare Version: 1.20.0 Command: /home/biocbuild/bbs-3.22-bioc/R/bin/R CMD build --keep-empty-dirs --no-resave-data --md5 TADCompare StartedAt: 2025-11-11 20:36:08 -0500 (Tue, 11 Nov 2025) EndedAt: 2025-11-11 20:37:15 -0500 (Tue, 11 Nov 2025) EllapsedTime: 67.1 seconds RetCode: 0 Status: OK PackageFile: TADCompare_1.20.0.tar.gz PackageFileSize: 4.155 MiB