Package: TADCompare Version: 1.20.0 Command: /Library/Frameworks/R.framework/Resources/bin/R CMD INSTALL TADCompare StartedAt: 2025-11-03 15:38:30 -0500 (Mon, 03 Nov 2025) EndedAt: 2025-11-03 15:39:12 -0500 (Mon, 03 Nov 2025) EllapsedTime: 42.0 seconds RetCode: 0 Status: OK